BEGIN:VCALENDAR
VERSION:2.0
PRODID:icalendar-ruby
CALSCALE:GREGORIAN
METHOD:PUBLISH
BEGIN:VEVENT
DTSTAMP:20260420T203317Z
UID:5-404769@hollysprings245.tithelysetup2.com
DTSTART:20260426T173000Z
DTEND:20260426T183000Z
CLASS:PUBLIC
CREATED:20260420T061039
DESCRIPTION:Sunday Worship
LAST-MODIFIED:20260420T061039
LOCATION:
SUMMARY:Sunday Worship
URL;VALUE=URI:https://hollysprings245.tithelysetup2.com/events/sunday-worsh
 ip/2026-04-26
END:VEVENT
END:VCALENDAR
