BEGIN:VCALENDAR
VERSION:2.0
PRODID:icalendar-ruby
CALSCALE:GREGORIAN
METHOD:PUBLISH
BEGIN:VEVENT
DTSTAMP:20260421T001951Z
UID:5-404771@hollysprings245.tithelysetup2.com
DTSTART:20260510T173000Z
DTEND:20260510T183000Z
CLASS:PUBLIC
CREATED:20260420T061039
DESCRIPTION:Sunday Worship
LAST-MODIFIED:20260420T061039
LOCATION:
SUMMARY:Sunday Worship
URL;VALUE=URI:https://hollysprings245.tithelysetup2.com/events/sunday-worsh
 ip/2026-05-10
END:VEVENT
END:VCALENDAR
